BEGIN:VCALENDAR
VERSION:2.0
PRODID:icalendar-ruby
CALSCALE:GREGORIAN
METHOD:PUBLISH
BEGIN:VEVENT
DTSTAMP:20260425T211455Z
UID:106-1150579@parmaparkchurch.com
DTSTART:20260602T150000Z
DTEND:20260604T180000Z
CLASS:PUBLIC
CREATED:20260422T191638
DESCRIPTION:Vacation Bible School for senior adults!! Team competition in a
 ll sorts of crazy games - 2-day point winners are treated to ice cream at 
 North Coast Custard on Thursday! \nThere's door prizes every 15 minutes th
 e first two days\, music\, free lunch\, lots of laughs and a Word from a s
 pecial guest speaker each day! \nThursdays are saved for "The Price is Rig
 ht" with wonderful prizes! \nWe'll have a costume contest the last day wit
 h the best "sea creature" costume\, complete with gift card prize. \nT-shi
 rts available at your cost. \nGuests are welcome! \nSIGN UP IS REQUIRED FO
 R EACH DAY!!\n Contact Pastor Marcia with questions
LAST-MODIFIED:20260422T191638
LOCATION:Parma Park Church of God
SUMMARY:"Under the Sea"
URL;VALUE=URI:https://parmaparkchurch.com/events/under-the-sea/2026-06-02
ATTACH;FILENAME=VBS.jpg;FMTTYPE=image/jpeg:https://dq5pwpg1q8ru0.cloudfront
 .net/2026/04/22/23/16/38/7f834c20-0f68-4dee-bbc3-d37fee1ff495/VBS.jpg
END:VEVENT
END:VCALENDAR
