BEGIN:VCALENDAR
VERSION:2.0
PRODID:icalendar-ruby
CALSCALE:GREGORIAN
METHOD:PUBLISH
BEGIN:VEVENT
DTSTAMP:20260423T213933Z
UID:25-1151571@parmaparkchurch.com
DTSTART:20261101T153000Z
DTEND:20261101T170000Z
CLASS:PUBLIC
CREATED:20260423T171505
DESCRIPTION:
LAST-MODIFIED:20260423T171505
LOCATION:Parma Park Church of God
SUMMARY:Sunday Morning Worship
URL;VALUE=URI:https://parmaparkchurch.com/events/sunday-morning-worship--25
 /2026-11-01
END:VEVENT
END:VCALENDAR
