BEGIN:VCALENDAR
VERSION:2.0
PRODID:icalendar-ruby
CALSCALE:GREGORIAN
METHOD:PUBLISH
BEGIN:VEVENT
DTSTAMP:20260423T200350Z
UID:25-1151405@parmaparkchurch.com
DTSTART:20261025T143000Z
DTEND:20261025T160000Z
CLASS:PUBLIC
CREATED:20260423T142014
DESCRIPTION:
LAST-MODIFIED:20260423T142014
LOCATION:Parma Park Church of God
SUMMARY:Sunday Morning Worship
URL;VALUE=URI:https://parmaparkchurch.com/events/sunday-morning-worship--25
 /2026-10-25
END:VEVENT
END:VCALENDAR
