BEGIN:VCALENDAR
VERSION:2.0
PRODID:icalendar-ruby
CALSCALE:GREGORIAN
METHOD:PUBLISH
BEGIN:VEVENT
DTSTAMP:20260423T170423Z
UID:25-1151238@parmaparkchurch.com
DTSTART:20261011T143000Z
DTEND:20261011T160000Z
CLASS:PUBLIC
CREATED:20260423T112337
DESCRIPTION:
LAST-MODIFIED:20260423T112337
LOCATION:Parma Park Church of God
SUMMARY:Sunday Morning Worship
URL;VALUE=URI:https://parmaparkchurch.com/events/sunday-morning-worship--25
 /2026-10-11
END:VEVENT
END:VCALENDAR
