BEGIN:VCALENDAR
VERSION:2.0
PRODID:icalendar-ruby
CALSCALE:GREGORIAN
METHOD:PUBLISH
BEGIN:VEVENT
DTSTAMP:20260423T010145Z
UID:25-1150739@parmaparkchurch.com
DTSTART:20260920T143000Z
DTEND:20260920T160000Z
CLASS:PUBLIC
CREATED:20260422T200641
DESCRIPTION:
LAST-MODIFIED:20260422T200641
LOCATION:Parma Park Church of God
SUMMARY:Sunday Morning Worship
URL;VALUE=URI:https://parmaparkchurch.com/events/sunday-morning-worship--25
 /2026-09-20
END:VEVENT
END:VCALENDAR
