BEGIN:VCALENDAR
VERSION:2.0
PRODID:icalendar-ruby
CALSCALE:GREGORIAN
METHOD:PUBLISH
BEGIN:VEVENT
DTSTAMP:20260423T153441Z
UID:107-1150580@parmaparkchurch.com
DTSTART:20260429T220000Z
DTEND:20260429T230000Z
CLASS:PUBLIC
CREATED:20260422T192056
DESCRIPTION:On Wednesday\, April 29th\, ladies\, we will be having a time o
 f Shopping with My Sisters!\nIt will begin at 6:00 before our last "Why a 
 Rib" series.\nBy next Sunday\, (26th) if you have anything you need to let
  go of - clothes\, purses\, shoes\, jewelry\, etc.\, making sure they are 
 clean\, in good condition\, no tears or stains/worn out. It can be anythin
 g!\nEverything will be free!\nJust bring it to the Multipurpose Room by Su
 n.\, April 26th See Pastor Donna with questions!
LAST-MODIFIED:20260422T192056
LOCATION:Parma Park Church of God
SUMMARY:"Shopping With My Sisters"
URL;VALUE=URI:https://parmaparkchurch.com/events/shopping-with-my-sisters/2
 026-04-29
ATTACH;FILENAME=Shopping.jpg;FMTTYPE=image/jpeg:https://dq5pwpg1q8ru0.cloud
 front.net/2026/04/22/23/20/56/d869d85b-e367-4487-a62d-f1bf34d38e6f/Shoppin
 g.jpg
END:VEVENT
END:VCALENDAR
