BEGIN:VCALENDAR
VERSION:2.0
PRODID:icalendar-ruby
CALSCALE:GREGORIAN
METHOD:PUBLISH
BEGIN:VEVENT
DTSTAMP:20260425T192445Z
UID:108-1151572@parmaparkchurch.com
DTSTART:20260512T150000Z
DTEND:20260512T170000Z
CLASS:PUBLIC
CREATED:20260423T191633
DESCRIPTION:Come on and see what all happens at our Young at Heart Luncheon
 s! \nWe'll have great food\, some prizes\, jokes\, hymns and a Word of the
  Lord! \nLots of laughter and fellowship and we hope you will join us!\n P
 lease sign up in the foyer and get your ticket!!
LAST-MODIFIED:20260423T191633
LOCATION:Parma Park Church of God
SUMMARY:May Young at Heart Luncheon
URL;VALUE=URI:https://parmaparkchurch.com/events/may-young-at-heart-luncheo
 n/2026-05-12
ATTACH;FILENAME=Young.jpg;FMTTYPE=image/jpeg:https://dq5pwpg1q8ru0.cloudfro
 nt.net/2026/04/23/23/16/33/b579773b-686a-47d6-998f-9099e3ea9fcb/Young.jpg
END:VEVENT
END:VCALENDAR
