BEGIN:VCALENDAR
VERSION:2.0
PRODID:icalendar-ruby
CALSCALE:GREGORIAN
METHOD:PUBLISH
BEGIN:VEVENT
DTSTAMP:20260425T192558Z
UID:105-1150578@parmaparkchurch.com
DTSTART:20260509T130000Z
DTEND:20260509T150000Z
CLASS:PUBLIC
CREATED:20260422T191346
DESCRIPTION:All men are welcome to join us at the church for a great breakf
 ast and fellowship with the guys! \nThe men are reading and discussing the
  book\, "The Resolution for Men". \nSee Joshua Strzala\, Men's Director\, 
 to request your book! \nSign up in the foyer for the May breakfast! 
LAST-MODIFIED:20260422T191346
LOCATION:Parma Park Church of God
SUMMARY:LifeBuilder's Breakfast
URL;VALUE=URI:https://parmaparkchurch.com/events/lifebuilders-breakfast/202
 6-05-09
ATTACH;FILENAME=LifeBuilders.jpg;FMTTYPE=image/jpeg:https://dq5pwpg1q8ru0.c
 loudfront.net/2026/04/22/23/13/46/571e11fe-a3cc-4b19-94b3-17b1bc4974f2/Lif
 eBuilders.jpg
END:VEVENT
END:VCALENDAR
