BEGIN:VCALENDAR
VERSION:2.0
PRODID:icalendar-ruby
CALSCALE:GREGORIAN
METHOD:PUBLISH
BEGIN:VEVENT
DTSTAMP:20260425T192015Z
UID:104-1150577@parmaparkchurch.com
DTSTART:20260527T230000Z
DTEND:20260528T000000Z
CLASS:PUBLIC
CREATED:20260422T191052
DESCRIPTION:Join the ladies for an evening of tea and snacks and discussion
  of our roles as wives\, women and mothers! \nWe will meet in the Meeting 
 Room. \nSee Michelle Rodriguez with questions
LAST-MODIFIED:20260422T191052
LOCATION:Parma Park Church of God
SUMMARY:EmpowerHer Tea Time
URL;VALUE=URI:https://parmaparkchurch.com/events/empowerher-tea-time--104/2
 026-05-27
ATTACH;FILENAME=EmpowrHer.jpg;FMTTYPE=image/jpeg:https://dq5pwpg1q8ru0.clou
 dfront.net/2026/04/22/23/10/51/d4261be5-2f29-4ba3-9751-5aa38eb9a6a4/Empowr
 Her.jpg
END:VEVENT
END:VCALENDAR
