BEGIN:VCALENDAR
VERSION:2.0
PRODID:icalendar-ruby
CALSCALE:GREGORIAN
METHOD:PUBLISH
BEGIN:VEVENT
DTSTAMP:20260425T192732Z
UID:109-1151573@parmaparkchurch.com
DTSTART:20260510T143000Z
DTEND:20260510T160000Z
CLASS:PUBLIC
CREATED:20260423T191949
DESCRIPTION:Parents interested in having their child dedicated on Mother's 
 Day\, please sign up in the foyer!
LAST-MODIFIED:20260423T191949
LOCATION:Parma Park Church of God
SUMMARY:Child Dedication 
URL;VALUE=URI:https://parmaparkchurch.com/events/child-dedication/2026-05-1
 0
ATTACH;FILENAME=Child.jpg;FMTTYPE=image/jpeg:https://dq5pwpg1q8ru0.cloudfro
 nt.net/2026/04/23/23/19/48/701ba79b-17ce-4c38-aea2-9a1bdff71f7f/Child.jpg
END:VEVENT
END:VCALENDAR
